BEGIN:VCALENDAR
VERSION:2.0
PRODID:-//TV Witzhelden - Turnverein Witzhelden - ECPv6.13.2.1//NONSGML v1.0//EN
CALSCALE:GREGORIAN
METHOD:PUBLISH
X-WR-CALNAME:TV Witzhelden - Turnverein Witzhelden
X-ORIGINAL-URL:https://www.tvw-witzhelden.de
X-WR-CALDESC:Veranstaltungen für TV Witzhelden - Turnverein Witzhelden
REFRESH-INTERVAL;VALUE=DURATION:PT1H
X-Robots-Tag:noindex
X-PUBLISHED-TTL:PT1H
BEGIN:VTIMEZONE
TZID:Europe/Berlin
BEGIN:DAYLIGHT
TZOFFSETFROM:+0100
TZOFFSETTO:+0200
TZNAME:CEST
DTSTART:20250330T010000
END:DAYLIGHT
BEGIN:STANDARD
TZOFFSETFROM:+0200
TZOFFSETTO:+0100
TZNAME:CET
DTSTART:20251026T010000
END:STANDARD
END:VTIMEZONE
BEGIN:VEVENT
DTSTART;TZID=Europe/Berlin:20251207T150000
DTEND;TZID=Europe/Berlin:20251207T150000
DTSTAMP:20260422T004208
CREATED:20251127T115217Z
LAST-MODIFIED:20251127T115312Z
UID:5639-1765119600-1765119600@www.tvw-witzhelden.de
SUMMARY:TVW-Nikolauswanderung 2025
DESCRIPTION:  \nAuch in diesem Jahr sind wieder alle TVW-Kids zu unserer traditionellen Nikolauswanderung herzlich eingeladen. \nSonntag\, 07.12.2025\n15.00 Uhr\nParkplatz Sengbach Talsperre \nWir wandern bei jedem Wetter zum Nikolaus!\nBei Glühwein\, Punsch und Würstchen wird der Nikolaus wieder eine kleine Überraschung für jedes Kind dabeihaben. \nFür Nicht-Mitglieder des TVW´s beträgt der Selbstkostenbeitrag 4\,00 € pro Kind \nAnmeldung bitte bis zum 29.11.2025 bei:\nSandy: 0160-96898744\noder\nKatja: 0162-9773869
URL:https://www.tvw-witzhelden.de/event/tvw-nikolauswanderung-2025/
LOCATION:Parkplatz Sengbach Talsperre\, Brachhausen\, Leichlingen\, NRW\, 42799\, Germany
END:VEVENT
END:VCALENDAR