BEGIN:VCALENDAR
VERSION:2.0
PRODID:-//TV Witzhelden - Turnverein Witzhelden - ECPv6.13.2.1//NONSGML v1.0//EN
CALSCALE:GREGORIAN
METHOD:PUBLISH
X-ORIGINAL-URL:https://www.tvw-witzhelden.de
X-WR-CALDESC:Veranstaltungen für TV Witzhelden - Turnverein Witzhelden
REFRESH-INTERVAL;VALUE=DURATION:PT1H
X-Robots-Tag:noindex
X-PUBLISHED-TTL:PT1H
BEGIN:VTIMEZONE
TZID:Europe/Berlin
BEGIN:DAYLIGHT
TZOFFSETFROM:+0100
TZOFFSETTO:+0200
TZNAME:CEST
DTSTART:20250330T010000
END:DAYLIGHT
BEGIN:STANDARD
TZOFFSETFROM:+0200
TZOFFSETTO:+0100
TZNAME:CET
DTSTART:20251026T010000
END:STANDARD
END:VTIMEZONE
BEGIN:VEVENT
DTSTART;TZID=Europe/Berlin:20251213T150000
DTEND;TZID=Europe/Berlin:20251213T150000
DTSTAMP:20260422T004418
CREATED:20251127T104640Z
LAST-MODIFIED:20251127T104640Z
UID:5620-1765638000-1765638000@www.tvw-witzhelden.de
SUMMARY:Adventscafé Ü70
DESCRIPTION:Am 13.Dezember 2025 veranstaltet die Ü70 Gruppe des Turnverein Witzhelden sein diesjähriges Adventscafé ab 15 Uhr in der Alten Post.\nWir freuen uns auf einen schönen und besinnlichen Samstagnachmittag in der Vorweihnachtszeit!
URL:https://www.tvw-witzhelden.de/event/adventscafe-ue70/
LOCATION:Alte Post Witzhelden\, Hauptstraße 5\, Leichlingen\, NRW\, 42799\, Germany
END:VEVENT
END:VCALENDAR