BEGIN:VCALENDAR
VERSION:2.0
PRODID:-//TV Witzhelden - Turnverein Witzhelden - ECPv6.13.2.1//NONSGML v1.0//EN
CALSCALE:GREGORIAN
METHOD:PUBLISH
X-WR-CALNAME:TV Witzhelden - Turnverein Witzhelden
X-ORIGINAL-URL:https://www.tvw-witzhelden.de
X-WR-CALDESC:Veranstaltungen für TV Witzhelden - Turnverein Witzhelden
REFRESH-INTERVAL;VALUE=DURATION:PT1H
X-Robots-Tag:noindex
X-PUBLISHED-TTL:PT1H
BEGIN:VTIMEZONE
TZID:Europe/Berlin
BEGIN:DAYLIGHT
TZOFFSETFROM:+0100
TZOFFSETTO:+0200
TZNAME:CEST
DTSTART:20260329T010000
END:DAYLIGHT
BEGIN:STANDARD
TZOFFSETFROM:+0200
TZOFFSETTO:+0100
TZNAME:CET
DTSTART:20261025T010000
END:STANDARD
END:VTIMEZONE
BEGIN:VEVENT
DTSTART;TZID=Europe/Berlin:20260208T110000
DTEND;TZID=Europe/Berlin:20260208T140000
DTSTAMP:20260421T213304
CREATED:20260116T125853Z
LAST-MODIFIED:20260116T125853Z
UID:5732-1770548400-1770559200@www.tvw-witzhelden.de
SUMMARY:9. Heimspieltag – 2. Badminton Bundesliga Nord
DESCRIPTION:Kommt vorbei zu unserem 9. Heimspiel in der 2. Bundesliga Nord der neuen Badmintonsaison 2025/2026. \nTV Witzhelden 1 gegen Gladbecker FC \nSpielbeginn ist um 11Uhr \nEinlass ab 10Uhr \nDer Eintritt ist frei!
URL:https://www.tvw-witzhelden.de/event/9-heimspieltag-2-badminton-bundesliga-nord/
LOCATION:Turmarena Witzhelden\, Am Sportplatz 1\, Leichlingen\, 42799
CATEGORIES:Badminton
END:VEVENT
END:VCALENDAR