BEGIN:VCALENDAR
VERSION:2.0
PRODID:-//TV Witzhelden - Turnverein Witzhelden - ECPv6.13.2.1//NONSGML v1.0//EN
CALSCALE:GREGORIAN
METHOD:PUBLISH
X-ORIGINAL-URL:https://www.tvw-witzhelden.de
X-WR-CALDESC:Veranstaltungen für TV Witzhelden - Turnverein Witzhelden
REFRESH-INTERVAL;VALUE=DURATION:PT1H
X-Robots-Tag:noindex
X-PUBLISHED-TTL:PT1H
BEGIN:VTIMEZONE
TZID:Europe/Berlin
BEGIN:DAYLIGHT
TZOFFSETFROM:+0100
TZOFFSETTO:+0200
TZNAME:CEST
DTSTART:20260329T010000
END:DAYLIGHT
BEGIN:STANDARD
TZOFFSETFROM:+0200
TZOFFSETTO:+0100
TZNAME:CET
DTSTART:20261025T010000
END:STANDARD
END:VTIMEZONE
BEGIN:VEVENT
DTSTART;VALUE=DATE:20260627
DTEND;VALUE=DATE:20260628
DTSTAMP:20260421T152742
CREATED:20260226T185841Z
LAST-MODIFIED:20260226T185841Z
UID:5800-1782518400-1782604799@www.tvw-witzhelden.de
SUMMARY:Tag des Sports
DESCRIPTION:  \nAm Samstag\, den 27.06.2026 feiern wir den Tag des Sports. \nEine Veranstaltung bei der wir unser Sportangebot präsentieren wollen. Vor allem für die kleinen Sportlerinnen und Sportler im Grundschulalter oder für diejenigen\, die nach dem tollen Angebot des Kinderturnens des TV Witzhelden noch nicht so ganz wissen\, welcher Sport es künftig sein soll. \nWeitere Infos werden zeitnah veröffentlicht.
URL:https://www.tvw-witzhelden.de/event/tag-des-sports/
LOCATION:NRW
CATEGORIES:TVW
END:VEVENT
BEGIN:VEVENT
DTSTART;TZID=Europe/Berlin:20260816T083000
DTEND;TZID=Europe/Berlin:20260816T123000
DTSTAMP:20260421T152742
CREATED:20260116T124552Z
LAST-MODIFIED:20260211T145632Z
UID:5721-1786869000-1786883400@www.tvw-witzhelden.de
SUMMARY:51. Sengbach Talsperrenlauf
DESCRIPTION:Der nächste Sengbach Talsperrenlauf findet am 16.08.2026 statt. \nWeitere Informationen findest du auf sengbachlauf.de  \nDie Anmeldung ist auf der Homepage geöffnet. \nhttps://sengbachlauf.de/
URL:https://www.tvw-witzhelden.de/event/5721/
LOCATION:Sengbach Talsperrenlauf\, Brachhausen\, Leichlingen (Rheinland)\, NRW\, 42799
CATEGORIES:Lauftreff
END:VEVENT
BEGIN:VEVENT
DTSTART;VALUE=DATE:20261206
DTEND;VALUE=DATE:20261207
DTSTAMP:20260421T152742
CREATED:20260116T130955Z
LAST-MODIFIED:20260116T130955Z
UID:5738-1796515200-1796601599@www.tvw-witzhelden.de
SUMMARY:TVW-Nikolauswanderung 2026
DESCRIPTION:Auch in diesem Jahr sind wieder alle TVW-Kids zu unserer traditionellen Nikolauswanderung herzlich eingeladen. \nSonntag\, 06.12.2026\n \nWir wandern bei jedem Wetter zum Nikolaus! \nWeitere Infos folgen.
URL:https://www.tvw-witzhelden.de/event/tvw-nikolauswanderung-2026/
LOCATION:Parkplatz Sengbach Talsperre\, Brachhausen\, Leichlingen\, NRW\, 42799\, Germany
CATEGORIES:TVW
END:VEVENT
END:VCALENDAR