BEGIN:VCALENDAR
VERSION:2.0
PRODID:-//TV Witzhelden - Turnverein Witzhelden - ECPv6.13.2.1//NONSGML v1.0//EN
CALSCALE:GREGORIAN
METHOD:PUBLISH
X-WR-CALNAME:TV Witzhelden - Turnverein Witzhelden
X-ORIGINAL-URL:https://www.tvw-witzhelden.de
X-WR-CALDESC:Veranstaltungen für TV Witzhelden - Turnverein Witzhelden
REFRESH-INTERVAL;VALUE=DURATION:PT1H
X-Robots-Tag:noindex
X-PUBLISHED-TTL:PT1H
BEGIN:VTIMEZONE
TZID:Europe/Berlin
BEGIN:DAYLIGHT
TZOFFSETFROM:+0100
TZOFFSETTO:+0200
TZNAME:CEST
DTSTART:20250330T010000
END:DAYLIGHT
BEGIN:STANDARD
TZOFFSETFROM:+0200
TZOFFSETTO:+0100
TZNAME:CET
DTSTART:20251026T010000
END:STANDARD
END:VTIMEZONE
BEGIN:VEVENT
DTSTART;TZID=Europe/Berlin:20250817T080000
DTEND;TZID=Europe/Berlin:20250817T140000
DTSTAMP:20260422T052733
CREATED:20250611T125646Z
LAST-MODIFIED:20250611T125646Z
UID:4061-1755417600-1755439200@www.tvw-witzhelden.de
SUMMARY:Sengbach Talsperrenlauf
DESCRIPTION:Der nächste Sengbach Talsperrenlauf findet am 17.08.2025 statt. Weitere Informationen findest du auf sengbachlauf.de
URL:https://www.tvw-witzhelden.de/event/sengbach-talsperrenlauf/
LOCATION:NRW
END:VEVENT
END:VCALENDAR