BEGIN:VCALENDAR
VERSION:2.0
PRODID:-//TV Witzhelden - Turnverein Witzhelden - ECPv6.13.2.1//NONSGML v1.0//EN
CALSCALE:GREGORIAN
METHOD:PUBLISH
X-ORIGINAL-URL:https://www.tvw-witzhelden.de
X-WR-CALDESC:Veranstaltungen für TV Witzhelden - Turnverein Witzhelden
REFRESH-INTERVAL;VALUE=DURATION:PT1H
X-Robots-Tag:noindex
X-PUBLISHED-TTL:PT1H
BEGIN:VTIMEZONE
TZID:Europe/Berlin
BEGIN:DAYLIGHT
TZOFFSETFROM:+0100
TZOFFSETTO:+0200
TZNAME:CEST
DTSTART:20250330T010000
END:DAYLIGHT
BEGIN:STANDARD
TZOFFSETFROM:+0200
TZOFFSETTO:+0100
TZNAME:CET
DTSTART:20251026T010000
END:STANDARD
END:VTIMEZONE
BEGIN:VEVENT
DTSTART;TZID=Europe/Berlin:20251129T160000
DTEND;TZID=Europe/Berlin:20251129T190000
DTSTAMP:20260422T004418
CREATED:20251015T193337Z
LAST-MODIFIED:20251127T110600Z
UID:5542-1764432000-1764442800@www.tvw-witzhelden.de
SUMMARY:6. Heimspieltag - 2. Badminton Bundesliga Nord
DESCRIPTION:  \nKommt vorbei zu unserem 6. Heimspiel in der 2. Bundesliga Nord der neuen Badmintonsaison 2025/2026. \nTV Witzhelden 1 gegen SV Berliner Brauereien \nSpielbeginn ist um 16Uhr \nEinlass ab 15Uhr \nDer Eintritt ist frei!
URL:https://www.tvw-witzhelden.de/event/3-heimspieltag-2-badminton-bundesliga-nord/
LOCATION:Turmarena Witzhelden\, Am Sportplatz 1\, Leichlingen\, 42799
CATEGORIES:Badminton
END:VEVENT
BEGIN:VEVENT
DTSTART;TZID=Europe/Berlin:20251130T110000
DTEND;TZID=Europe/Berlin:20251130T140000
DTSTAMP:20260422T004418
CREATED:20251127T111416Z
LAST-MODIFIED:20251127T111416Z
UID:5633-1764500400-1764511200@www.tvw-witzhelden.de
SUMMARY:7. Heimspieltag – 2. Badminton Bundesliga Nord
DESCRIPTION:Kommt vorbei zu unserem 7. Heimspiel in der 2. Bundesliga Nord der neuen Badmintonsaison 2025/2026. \nTV Witzhelden 1 gegen SC Union 08 Lüdinghausen 2 \nSpielbeginn ist um 11Uhr \nEinlass ab 10Uhr \nDer Eintritt ist frei!
URL:https://www.tvw-witzhelden.de/event/7-heimspieltag-2-badminton-bundesliga-nord/
LOCATION:Turmarena Witzhelden\, Am Sportplatz 1\, Leichlingen\, 42799
END:VEVENT
END:VCALENDAR