BEGIN:VCALENDAR
VERSION:2.0
PRODID:-//TV Witzhelden - Turnverein Witzhelden - ECPv6.13.2.1//NONSGML v1.0//EN
CALSCALE:GREGORIAN
METHOD:PUBLISH
X-ORIGINAL-URL:https://www.tvw-witzhelden.de
X-WR-CALDESC:Veranstaltungen für TV Witzhelden - Turnverein Witzhelden
REFRESH-INTERVAL;VALUE=DURATION:PT1H
X-Robots-Tag:noindex
X-PUBLISHED-TTL:PT1H
BEGIN:VTIMEZONE
TZID:Europe/Berlin
BEGIN:DAYLIGHT
TZOFFSETFROM:+0100
TZOFFSETTO:+0200
TZNAME:CEST
DTSTART:20260329T010000
END:DAYLIGHT
BEGIN:STANDARD
TZOFFSETFROM:+0200
TZOFFSETTO:+0100
TZNAME:CET
DTSTART:20261025T010000
END:STANDARD
END:VTIMEZONE
BEGIN:VEVENT
DTSTART;TZID=Europe/Berlin:20260321T140000
DTEND;TZID=Europe/Berlin:20260321T170000
DTSTAMP:20260421T184327
CREATED:20260116T130230Z
LAST-MODIFIED:20260116T130230Z
UID:5734-1774101600-1774112400@www.tvw-witzhelden.de
SUMMARY:10. Heimspieltag – 2. Badminton Bundesliga Nord
DESCRIPTION:Kommt vorbei zu unserem 10. Heimspiel in der 2. Bundesliga Nord der neuen Badmintonsaison 2025/2026. \nTV Witzhelden 1 gegen 1. BC Wipperfeld 2 \nSpielbeginn ist um 14Uhr \nEinlass ab 13Uhr \nDer Eintritt ist frei!
URL:https://www.tvw-witzhelden.de/event/10-heimspieltag-2-badminton-bundesliga-nord/
LOCATION:Turmarena Witzhelden\, Am Sportplatz 1\, Leichlingen\, 42799
CATEGORIES:Badminton
END:VEVENT
BEGIN:VEVENT
DTSTART;TZID=Europe/Berlin:20260322T110000
DTEND;TZID=Europe/Berlin:20260322T140000
DTSTAMP:20260421T184327
CREATED:20260116T130428Z
LAST-MODIFIED:20260116T130428Z
UID:5736-1774177200-1774188000@www.tvw-witzhelden.de
SUMMARY:11. Heimspieltag – 2. Badminton Bundesliga Nord
DESCRIPTION:Kommt vorbei zu unserem 11. und letzten Heimspiel in der 2. Bundesliga Nord der neuen Badmintonsaison 2025/2026. \nTV Witzhelden 1 gegen SSV WBG Bochum \nSpielbeginn ist um 11Uhr \nEinlass ab 10Uhr \nDer Eintritt ist frei!
URL:https://www.tvw-witzhelden.de/event/11-heimspieltag-2-badminton-bundesliga-nord/
LOCATION:Turmarena Witzhelden\, Am Sportplatz 1\, Leichlingen\, 42799
CATEGORIES:Badminton
END:VEVENT
END:VCALENDAR